BEGIN:VCALENDAR
VERSION:2.0
PRODID:-//Project Gallantly Forward - ECPv6.15.20//NONSGML v1.0//EN
CALSCALE:GREGORIAN
METHOD:PUBLISH
X-ORIGINAL-URL:https://www.projectgallantlyforward.org
X-WR-CALDESC:Events for Project Gallantly Forward
REFRESH-INTERVAL;VALUE=DURATION:PT1H
X-Robots-Tag:noindex
X-PUBLISHED-TTL:PT1H
BEGIN:VTIMEZONE
TZID:America/New_York
BEGIN:DAYLIGHT
TZOFFSETFROM:-0500
TZOFFSETTO:-0400
TZNAME:EDT
DTSTART:20240310T070000
END:DAYLIGHT
BEGIN:STANDARD
TZOFFSETFROM:-0400
TZOFFSETTO:-0500
TZNAME:EST
DTSTART:20241103T060000
END:STANDARD
BEGIN:DAYLIGHT
TZOFFSETFROM:-0500
TZOFFSETTO:-0400
TZNAME:EDT
DTSTART:20250309T070000
END:DAYLIGHT
BEGIN:STANDARD
TZOFFSETFROM:-0400
TZOFFSETTO:-0500
TZNAME:EST
DTSTART:20251102T060000
END:STANDARD
BEGIN:DAYLIGHT
TZOFFSETFROM:-0500
TZOFFSETTO:-0400
TZNAME:EDT
DTSTART:20260308T070000
END:DAYLIGHT
BEGIN:STANDARD
TZOFFSETFROM:-0400
TZOFFSETTO:-0500
TZNAME:EST
DTSTART:20261101T060000
END:STANDARD
END:VTIMEZONE
BEGIN:VEVENT
DTSTART;TZID=America/New_York:20251205T180000
DTEND;TZID=America/New_York:20251205T230000
DTSTAMP:20260423T190634
CREATED:20250225T023838Z
LAST-MODIFIED:20251030T115333Z
UID:1176-1764957600-1764975600@www.projectgallantlyforward.org
SUMMARY:Stars\, Stripes and Ugly Sweaters: PGF's 3rd Annual Fundraiser
DESCRIPTION:Don your ugliest Christmas sweater for a night of fun where we can raise awareness for Veteran suicide\, and raise funds to support our mission to help Veterans move forward together. This is a charity event to raise funds for PGF’s year-round Veteran retreat programs. Project Gallantly Forward’s annual fundraising event is more than a festive gathering. It’s a chance for our community to come together in support of those who’ve served. With live music\, food\, raffles\, auctions\, and plenty of holiday cheer\, this event helps fund the healing work PGF does all year long. \nDetails and tickets at https://www.projectgallantlyforward.org/ugly25/
URL:https://www.projectgallantlyforward.org/event/ugly-sweater-party-2/
LOCATION:Beni Event Room\, 1200 Mountain Creek Rd\, Chattanooga\, TN\, 37405\, United States
ORGANIZER;CN="Project Gallantly Forward":MAILTO:christine@projectgallantlyforward.org
END:VEVENT
END:VCALENDAR