BEGIN:VCALENDAR
VERSION:2.0
PRODID:-//Project Gallantly Forward - ECPv6.15.20//NONSGML v1.0//EN
CALSCALE:GREGORIAN
METHOD:PUBLISH
X-ORIGINAL-URL:https://www.projectgallantlyforward.org
X-WR-CALDESC:Events for Project Gallantly Forward
REFRESH-INTERVAL;VALUE=DURATION:PT1H
X-Robots-Tag:noindex
X-PUBLISHED-TTL:PT1H
BEGIN:VTIMEZONE
TZID:America/New_York
BEGIN:DAYLIGHT
TZOFFSETFROM:-0500
TZOFFSETTO:-0400
TZNAME:EDT
DTSTART:20240310T070000
END:DAYLIGHT
BEGIN:STANDARD
TZOFFSETFROM:-0400
TZOFFSETTO:-0500
TZNAME:EST
DTSTART:20241103T060000
END:STANDARD
BEGIN:DAYLIGHT
TZOFFSETFROM:-0500
TZOFFSETTO:-0400
TZNAME:EDT
DTSTART:20250309T070000
END:DAYLIGHT
BEGIN:STANDARD
TZOFFSETFROM:-0400
TZOFFSETTO:-0500
TZNAME:EST
DTSTART:20251102T060000
END:STANDARD
BEGIN:DAYLIGHT
TZOFFSETFROM:-0500
TZOFFSETTO:-0400
TZNAME:EDT
DTSTART:20260308T070000
END:DAYLIGHT
BEGIN:STANDARD
TZOFFSETFROM:-0400
TZOFFSETTO:-0500
TZNAME:EST
DTSTART:20261101T060000
END:STANDARD
END:VTIMEZONE
BEGIN:VEVENT
DTSTART;TZID=America/New_York:20250901T180000
DTEND;TZID=America/New_York:20250901T200000
DTSTAMP:20260424T000711
CREATED:20250829T125711Z
LAST-MODIFIED:20250829T125711Z
UID:1638-1756749600-1756756800@www.projectgallantlyforward.org
SUMMARY:Fishing Nights at PGF
DESCRIPTION:We welcome Veterans with their families to come to the retreat on Monday evenings from 6-8p eastern time for catch-and-release fishing. Pond is stocked primarily with bass\, crappie and catfish. \n\nREQUIRED: email Christine@projectgallantlyforward.org and let us know if you will be coming so we can expect you!\nBring your own poles and gear.\nPond is located at 818 Suzanne Rd Graysville\, TN 37338\, nearby the cabins.
URL:https://www.projectgallantlyforward.org/event/fishing-nights-at-pgf-8/
LOCATION:Project Gallantly Forward\, 81 Potts Rd\, Graysville\, TN\, 37338\, United States
ORGANIZER;CN="Project Gallantly Forward":MAILTO:christine@projectgallantlyforward.org
END:VEVENT
BEGIN:VEVENT
DTSTART;TZID=America/New_York:20250906T080000
DTEND;TZID=America/New_York:20250906T170000
DTSTAMP:20260424T000711
CREATED:20250418T154911Z
LAST-MODIFIED:20250418T154911Z
UID:1291-1757145600-1757178000@www.projectgallantlyforward.org
SUMMARY:SeptemberFest on Station Street
DESCRIPTION:Details TBD \n  \n 
URL:https://www.projectgallantlyforward.org/event/septemberfest-on-station-street/
LOCATION:Station Street\, 24 Station Street\, Chattanooga\, TN\, 37408\, United States
END:VEVENT
BEGIN:VEVENT
DTSTART;TZID=America/New_York:20250908T180000
DTEND;TZID=America/New_York:20250908T200000
DTSTAMP:20260424T000711
CREATED:20250829T125757Z
LAST-MODIFIED:20250829T125757Z
UID:1640-1757354400-1757361600@www.projectgallantlyforward.org
SUMMARY:Fishing Nights at PGF
DESCRIPTION:We welcome Veterans with their families to come to the retreat on Monday evenings from 6-8p eastern time for catch-and-release fishing. Pond is stocked primarily with bass\, crappie and catfish. \n\nREQUIRED: email Christine@projectgallantlyforward.org and let us know if you will be coming so we can expect you!\nBring your own poles and gear.\nPond is located at 818 Suzanne Rd Graysville\, TN 37338\, nearby the cabins.
URL:https://www.projectgallantlyforward.org/event/fishing-nights-at-pgf-9/
LOCATION:Project Gallantly Forward\, 81 Potts Rd\, Graysville\, TN\, 37338\, United States
ORGANIZER;CN="Project Gallantly Forward":MAILTO:christine@projectgallantlyforward.org
END:VEVENT
BEGIN:VEVENT
DTSTART;TZID=America/New_York:20250915T180000
DTEND;TZID=America/New_York:20250915T200000
DTSTAMP:20260424T000711
CREATED:20250829T125834Z
LAST-MODIFIED:20250829T125834Z
UID:1642-1757959200-1757966400@www.projectgallantlyforward.org
SUMMARY:Fishing Nights at PGF
DESCRIPTION:We welcome Veterans with their families to come to the retreat on Monday evenings from 6-8p eastern time for catch-and-release fishing. Pond is stocked primarily with bass\, crappie and catfish. \n\nREQUIRED: email Christine@projectgallantlyforward.org and let us know if you will be coming so we can expect you!\nBring your own poles and gear.\nPond is located at 818 Suzanne Rd Graysville\, TN 37338\, nearby the cabins.
URL:https://www.projectgallantlyforward.org/event/fishing-nights-at-pgf-10/
LOCATION:Project Gallantly Forward\, 81 Potts Rd\, Graysville\, TN\, 37338\, United States
ORGANIZER;CN="Project Gallantly Forward":MAILTO:christine@projectgallantlyforward.org
END:VEVENT
BEGIN:VEVENT
DTSTART;TZID=America/New_York:20250919T080000
DTEND;TZID=America/New_York:20250920T170000
DTSTAMP:20260424T000711
CREATED:20250225T024753Z
LAST-MODIFIED:20250225T024753Z
UID:1183-1758268800-1758387600@www.projectgallantlyforward.org
SUMMARY:Disc Golf Tournament
DESCRIPTION:Details TBD
URL:https://www.projectgallantlyforward.org/event/disc-golf-tournament/
LOCATION:Project Gallantly Forward\, 81 Potts Rd\, Graysville\, TN\, 37338\, United States
ORGANIZER;CN="Project Gallantly Forward":MAILTO:christine@projectgallantlyforward.org
END:VEVENT
BEGIN:VEVENT
DTSTART;TZID=America/New_York:20250922T180000
DTEND;TZID=America/New_York:20250922T200000
DTSTAMP:20260424T000711
CREATED:20250829T125915Z
LAST-MODIFIED:20250829T125915Z
UID:1644-1758564000-1758571200@www.projectgallantlyforward.org
SUMMARY:Fishing Nights at PGF
DESCRIPTION:We welcome Veterans with their families to come to the retreat on Monday evenings from 6-8p eastern time for catch-and-release fishing. Pond is stocked primarily with bass\, crappie and catfish. \n\nREQUIRED: email Christine@projectgallantlyforward.org and let us know if you will be coming so we can expect you!\nBring your own poles and gear.\nPond is located at 818 Suzanne Rd Graysville\, TN 37338\, nearby the cabins.
URL:https://www.projectgallantlyforward.org/event/fishing-nights-at-pgf-11/
LOCATION:Project Gallantly Forward\, 81 Potts Rd\, Graysville\, TN\, 37338\, United States
ORGANIZER;CN="Project Gallantly Forward":MAILTO:christine@projectgallantlyforward.org
END:VEVENT
BEGIN:VEVENT
DTSTART;TZID=America/New_York:20250927T080000
DTEND;TZID=America/New_York:20250927T170000
DTSTAMP:20260424T000711
CREATED:20250418T152953Z
LAST-MODIFIED:20250421T235101Z
UID:1287-1758960000-1758992400@www.projectgallantlyforward.org
SUMMARY:Challenge 22 Sequatchie
DESCRIPTION:Project Gallantly Forward will be a non-profit recipient of funds raised at this year’s Challenge 22 Sequatchie event. \nDetails and registration can be found at their website at: \nhttps://www.challenge22sequatchie.org/register \nhttps://www.facebook.com/Challenge22Sequatchie \nFrom their website: \n“Our next 2.2-mile “Walk/Run to End Veteran Suicide” will be held on Saturday\, September 27\, 2025. There will also be a 22-mile ride for motorcyclists to participate in led by our local American Legion Riders chapter. \nCheck-in/registration starts at 8:00 AM CST at Harris Park in beautiful downtown Dunlap\, TN. \nThere is no fee to register. Donations will be accepted at the event.
URL:https://www.projectgallantlyforward.org/event/challenge-22-sequatchie/
LOCATION:Harris Park\, 245 Cedar Ave\, Dunlap\, TN\, 37327\, United States
END:VEVENT
BEGIN:VEVENT
DTSTART;TZID=America/New_York:20250929T180000
DTEND;TZID=America/New_York:20250929T200000
DTSTAMP:20260424T000711
CREATED:20250829T125954Z
LAST-MODIFIED:20250829T125954Z
UID:1646-1759168800-1759176000@www.projectgallantlyforward.org
SUMMARY:Fishing Nights at PGF
DESCRIPTION:We welcome Veterans with their families to come to the retreat on Monday evenings from 6-8p eastern time for catch-and-release fishing. Pond is stocked primarily with bass\, crappie and catfish. \n\nREQUIRED: email Christine@projectgallantlyforward.org and let us know if you will be coming so we can expect you!\nBring your own poles and gear.\nPond is located at 818 Suzanne Rd Graysville\, TN 37338\, nearby the cabins.
URL:https://www.projectgallantlyforward.org/event/fishing-nights-at-pgf-12/
LOCATION:Project Gallantly Forward\, 81 Potts Rd\, Graysville\, TN\, 37338\, United States
ORGANIZER;CN="Project Gallantly Forward":MAILTO:christine@projectgallantlyforward.org
END:VEVENT
END:VCALENDAR