BEGIN:VCALENDAR
VERSION:2.0
PRODID:-//Project Gallantly Forward - ECPv6.15.20//NONSGML v1.0//EN
CALSCALE:GREGORIAN
METHOD:PUBLISH
X-WR-CALNAME:Project Gallantly Forward
X-ORIGINAL-URL:https://www.projectgallantlyforward.org
X-WR-CALDESC:Events for Project Gallantly Forward
REFRESH-INTERVAL;VALUE=DURATION:PT1H
X-Robots-Tag:noindex
X-PUBLISHED-TTL:PT1H
BEGIN:VTIMEZONE
TZID:America/New_York
BEGIN:DAYLIGHT
TZOFFSETFROM:-0500
TZOFFSETTO:-0400
TZNAME:EDT
DTSTART:20240310T070000
END:DAYLIGHT
BEGIN:STANDARD
TZOFFSETFROM:-0400
TZOFFSETTO:-0500
TZNAME:EST
DTSTART:20241103T060000
END:STANDARD
BEGIN:DAYLIGHT
TZOFFSETFROM:-0500
TZOFFSETTO:-0400
TZNAME:EDT
DTSTART:20250309T070000
END:DAYLIGHT
BEGIN:STANDARD
TZOFFSETFROM:-0400
TZOFFSETTO:-0500
TZNAME:EST
DTSTART:20251102T060000
END:STANDARD
BEGIN:DAYLIGHT
TZOFFSETFROM:-0500
TZOFFSETTO:-0400
TZNAME:EDT
DTSTART:20260308T070000
END:DAYLIGHT
BEGIN:STANDARD
TZOFFSETFROM:-0400
TZOFFSETTO:-0500
TZNAME:EST
DTSTART:20261101T060000
END:STANDARD
END:VTIMEZONE
BEGIN:VTIMEZONE
TZID:America/New_York
BEGIN:DAYLIGHT
TZOFFSETFROM:-0500
TZOFFSETTO:-0400
TZNAME:EDT
DTSTART:20240310T070000
END:DAYLIGHT
BEGIN:STANDARD
TZOFFSETFROM:-0400
TZOFFSETTO:-0500
TZNAME:EST
DTSTART:20241103T060000
END:STANDARD
BEGIN:DAYLIGHT
TZOFFSETFROM:-0500
TZOFFSETTO:-0400
TZNAME:EDT
DTSTART:20250309T070000
END:DAYLIGHT
BEGIN:STANDARD
TZOFFSETFROM:-0400
TZOFFSETTO:-0500
TZNAME:EST
DTSTART:20251102T060000
END:STANDARD
BEGIN:DAYLIGHT
TZOFFSETFROM:-0500
TZOFFSETTO:-0400
TZNAME:EDT
DTSTART:20260308T070000
END:DAYLIGHT
BEGIN:STANDARD
TZOFFSETFROM:-0400
TZOFFSETTO:-0500
TZNAME:EST
DTSTART:20261101T060000
END:STANDARD
END:VTIMEZONE
BEGIN:VEVENT
DTSTART;TZID=America/New_York:20250803T140000
DTEND;TZID=America/New_York:20250803T170000
DTSTAMP:20260424T014239
CREATED:20250803T021111Z
LAST-MODIFIED:20250803T021111Z
UID:1578-1754229600-1754240400@www.projectgallantlyforward.org
SUMMARY:U-Pick Flowers
DESCRIPTION:Zinnias and Cosmos planted at the retreat by Hendon Farm are exploding! We want to share them with local Veterans and PGF supporters by having a pop up “U-Pick” day! Bring a bucket and some scissors and pick some flowers. Suggested donation $5 to help support PGF Veterans Retreat \n 
URL:https://www.projectgallantlyforward.org/event/u-pick-flowers/
LOCATION:Project Gallantly Forward\, 81 Potts Rd\, Graysville\, TN\, 37338\, United States
ORGANIZER;CN="Project Gallantly Forward":MAILTO:christine@projectgallantlyforward.org
END:VEVENT
BEGIN:VEVENT
DTSTART;TZID=America/New_York:20250804T180000
DTEND;TZID=America/New_York:20250804T200000
DTSTAMP:20260424T014239
CREATED:20250615T144038Z
LAST-MODIFIED:20250615T144038Z
UID:1394-1754330400-1754337600@www.projectgallantlyforward.org
SUMMARY:Fishing Nights at PGF
DESCRIPTION:We welcome Veterans with their families to come to the retreat on Monday evenings from 6-8p eastern time for catch-and-release fishing. Pond is stocked primarily with bass\, crappie and catfish. \n\nREQUIRED: email Christine@projectgallantlyforward.org and let us know if you will be coming so we can expect you!\nBring your own poles and gear.\nPond is located at 818 Suzanne Rd Graysville\, TN 37338\, nearby the cabins.
URL:https://www.projectgallantlyforward.org/event/fishing-nights-at-pgf-7/
LOCATION:Project Gallantly Forward\, 81 Potts Rd\, Graysville\, TN\, 37338\, United States
ATTACH;FMTTYPE=image/jpeg:https://www.projectgallantlyforward.org/wp-content/uploads/2024/08/456961637_498435543123823_7832228853764085857_n.jpg
ORGANIZER;CN="Project Gallantly Forward":MAILTO:christine@projectgallantlyforward.org
END:VEVENT
BEGIN:VEVENT
DTSTART;TZID=America/New_York:20250810T140000
DTEND;TZID=America/New_York:20250810T170000
DTSTAMP:20260424T014239
CREATED:20250807T235357Z
LAST-MODIFIED:20250807T235357Z
UID:1586-1754834400-1754845200@www.projectgallantlyforward.org
SUMMARY:U-Pick Flowers
DESCRIPTION:Zinnias and Cosmos planted at the retreat by Hendon Farm are exploding! We want to share them with local Veterans and PGF supporters by having a pop up “U-Pick” day! Bring a bucket and some scissors and pick some flowers. Suggested donation $5 to help support PGF Veterans Retreat
URL:https://www.projectgallantlyforward.org/event/u-pick-flowers-2/
LOCATION:Project Gallantly Forward\, 81 Potts Rd\, Graysville\, TN\, 37338\, United States
ORGANIZER;CN="Project Gallantly Forward":MAILTO:christine@projectgallantlyforward.org
END:VEVENT
BEGIN:VEVENT
DTSTART;TZID=America/New_York:20250830T140000
DTEND;TZID=America/New_York:20250830T180000
DTSTAMP:20260424T014239
CREATED:20250829T130427Z
LAST-MODIFIED:20250829T130427Z
UID:1648-1756562400-1756576800@www.projectgallantlyforward.org
SUMMARY:Holy Smokes Cigars Poker Run
DESCRIPTION:Poker run benefiting Wounded Warrior Project. PGF will be there\, so come by and see our volunteers! \n 
URL:https://www.projectgallantlyforward.org/event/holy-smokes-cigars-poker-run/
LOCATION:Holy Smokes Cigars\, 6729 Ringgold Rd\, East Ridge\, TN\, 37412\, United States
END:VEVENT
END:VCALENDAR