BEGIN:VCALENDAR
VERSION:2.0
PRODID:-//Project Gallantly Forward - ECPv6.15.20//NONSGML v1.0//EN
CALSCALE:GREGORIAN
METHOD:PUBLISH
X-ORIGINAL-URL:https://www.projectgallantlyforward.org
X-WR-CALDESC:Events for Project Gallantly Forward
REFRESH-INTERVAL;VALUE=DURATION:PT1H
X-Robots-Tag:noindex
X-PUBLISHED-TTL:PT1H
BEGIN:VTIMEZONE
TZID:America/New_York
BEGIN:DAYLIGHT
TZOFFSETFROM:-0500
TZOFFSETTO:-0400
TZNAME:EDT
DTSTART:20230312T070000
END:DAYLIGHT
BEGIN:STANDARD
TZOFFSETFROM:-0400
TZOFFSETTO:-0500
TZNAME:EST
DTSTART:20231105T060000
END:STANDARD
BEGIN:DAYLIGHT
TZOFFSETFROM:-0500
TZOFFSETTO:-0400
TZNAME:EDT
DTSTART:20240310T070000
END:DAYLIGHT
BEGIN:STANDARD
TZOFFSETFROM:-0400
TZOFFSETTO:-0500
TZNAME:EST
DTSTART:20241103T060000
END:STANDARD
BEGIN:DAYLIGHT
TZOFFSETFROM:-0500
TZOFFSETTO:-0400
TZNAME:EDT
DTSTART:20250309T070000
END:DAYLIGHT
BEGIN:STANDARD
TZOFFSETFROM:-0400
TZOFFSETTO:-0500
TZNAME:EST
DTSTART:20251102T060000
END:STANDARD
END:VTIMEZONE
BEGIN:VTIMEZONE
TZID:UTC
BEGIN:STANDARD
TZOFFSETFROM:+0000
TZOFFSETTO:+0000
TZNAME:UTC
DTSTART:20230101T000000
END:STANDARD
END:VTIMEZONE
BEGIN:VEVENT
DTSTART;TZID=America/New_York:20240925T170000
DTEND;TZID=America/New_York:20240925T200000
DTSTAMP:20260423T165636
CREATED:20240905T015101Z
LAST-MODIFIED:20240905T015310Z
UID:900-1727283600-1727294400@www.projectgallantlyforward.org
SUMMARY:Miller's Ale House Dine to Donate
DESCRIPTION:Come to Miller’s Ale House on Gunbarrel Rd from 5p-8p. 20% of your ticket will automatically be donated right to Project Gallantly Forward! \nAddress: 2119 Gunbarrel Rd Chattanooga\, TN
URL:https://www.projectgallantlyforward.org/event/millers-ale-house-dine-to-donate/
LOCATION:Miller’s Ale House\, 2119 Gunbarrel Rd\, Chattanooga\, Tennessee\, 37421
ORGANIZER;CN="Project Gallantly Forward":MAILTO:christine@projectgallantlyforward.org
END:VEVENT
BEGIN:VEVENT
DTSTART;TZID=America/New_York:20240904T183000
DTEND;TZID=America/New_York:20240904T200000
DTSTAMP:20260423T165636
CREATED:20240628T151604Z
LAST-MODIFIED:20240628T151604Z
UID:477-1725474600-1725480000@www.projectgallantlyforward.org
SUMMARY:G.R.I.T. Training - Class #2
DESCRIPTION:Grunt Resiliency Improvement Training – Second of 4 Monthly Classes \nRegister at G.R.I.T. – Project Gallantly Forward \nAny Job. \nAny Rank. \nAny Branch. \nWe are all now grunts in the same trench. The new trench of finding who we are outside of the military. It is a completely different world than the military and can leave the most adept soldier scrambling for a foothold even years later. When the identity of who we are as soldiers is gone\, developing resiliency and GRIT are critical for moving forward. \nG.R.I.T. training is co-facilitated by: \n\nCindi Sanden\, Certified Resiliency Trainer and Executive Director of Keeping Soddy Daisy Beautiful\nDr. Mark Miller\, Psychologist\, US Army Veteran and PGF Board Member\n\nTraining focuses on: \n\nBuilding Resilience: Learn techniques to enhance your emotional and mental resilience.\nCommunity Support: Engage with other Veterans in a supportive and understanding environment.\nPractical Tools: Gain practical tools and strategies to manage stress and improve overall well-being.
URL:https://www.projectgallantlyforward.org/event/g-r-i-t-training-class-2/
LOCATION:PGF Office – Soddy Daisy\, 9632 Dayton Pike #102\, Soddy Daisy\, Tennessee\, 37338\, United States
ORGANIZER;CN="Project Gallantly Forward":MAILTO:christine@projectgallantlyforward.org
END:VEVENT
BEGIN:VEVENT
DTSTART;TZID=America/New_York:20240807T183000
DTEND;TZID=America/New_York:20240807T200000
DTSTAMP:20260423T165636
CREATED:20240628T151419Z
LAST-MODIFIED:20240628T151419Z
UID:462-1723055400-1723060800@www.projectgallantlyforward.org
SUMMARY:G.R.I.T. Training Class #1
DESCRIPTION:Grunt Resiliency Improvement Training – First of 4 Monthly Classes \nRegister at G.R.I.T. – Project Gallantly Forward \nAny Job. \nAny Rank. \nAny Branch. \nWe are all now grunts in the same trench. The new trench of finding who we are outside of the military. It is a completely different world than the military and can leave the most adept soldier scrambling for a foothold even years later. When the identity of who we are as soldiers is gone\, developing resiliency and GRIT are critical for moving forward. \nG.R.I.T. training is co-facilitated by: \n\nCindi Sanden\, Certified Resiliency Trainer and Executive Director of Keeping Soddy Daisy Beautiful\nDr. Mark Miller\, Psychologist\, US Army Veteran and PGF Board Member\n\nTraining focuses on: \n\nBuilding Resilience: Learn techniques to enhance your emotional and mental resilience.\nCommunity Support: Engage with other Veterans in a supportive and understanding environment.\nPractical Tools: Gain practical tools and strategies to manage stress and improve overall well-being.
URL:https://www.projectgallantlyforward.org/event/g-r-i-t-training-class-1/
LOCATION:PGF Office – Soddy Daisy\, 9632 Dayton Pike #102\, Soddy Daisy\, Tennessee\, 37338\, United States
ORGANIZER;CN="Project Gallantly Forward":MAILTO:christine@projectgallantlyforward.org
END:VEVENT
BEGIN:VEVENT
DTSTART;TZID=America/New_York:20240703T193000
DTEND;TZID=America/New_York:20240703T223000
DTSTAMP:20260423T165636
CREATED:20240628T153459Z
LAST-MODIFIED:20240628T153459Z
UID:489-1720035000-1720045800@www.projectgallantlyforward.org
SUMMARY:Booth at C4 Fireworks Celebration
DESCRIPTION:Join us for a firework celebration! We will have a booth and be spreading awareness about Veteran issues. \nEvent link: https://fb.me/e/1LFSyasT5
URL:https://www.projectgallantlyforward.org/event/booth-at-c4-fireworks-celebration/
LOCATION:C4 Church\, 1947 Thrasher Pike\, Hixson\, TN\, 37338\, United States
END:VEVENT
BEGIN:VEVENT
DTSTART;TZID=UTC:20240529T150000
DTEND;TZID=UTC:20240529T200000
DTSTAMP:20260423T165636
CREATED:20240522T044602Z
LAST-MODIFIED:20240522T044602Z
UID:411-1716994800-1717012800@www.projectgallantlyforward.org
SUMMARY:Texas Roadhouse: Dine to Donate
DESCRIPTION:10% of food sales are donated to Project Gallantly Forward if you show them our flyer! See you there.
URL:https://www.projectgallantlyforward.org/event/texas-roadhouse-dine-to-donate/
LOCATION:Texas Roadhouse – Hixson\, 5362 TN-153\, Hixson\, TN\, 37343\, United States
ORGANIZER;CN="Project Gallantly Forward":MAILTO:christine@projectgallantlyforward.org
END:VEVENT
BEGIN:VEVENT
DTSTART;TZID=UTC:20240525T190000
DTEND;TZID=UTC:20240525T213000
DTSTAMP:20260423T165636
CREATED:20240522T044018Z
LAST-MODIFIED:20240522T044137Z
UID:407-1716663600-1716672600@www.projectgallantlyforward.org
SUMMARY:Chattanooga Lookouts: Military Appreciation Night
DESCRIPTION:Everyone can come\, but Veterans and their families attend for FREE! \nTimes are all eastern. \nJoin us Memorial Day weekend on Saturday\, 5/25/2024\, for the Chattanooga Lookouts v. Mississippi Braves and be part of an unforgettable night of excitement and community spirit. Come together with fellow fans at the stadium to show your support and enjoy America’s favorite pastime. This night is military appreciation night\, so bring your Veteran ID so you and your family can gain free entrance to the game! \nProject Gallantly Forward (PGF) will be the featured Community Partner. PGF Volunteer and US Navy Veteran\, Travis Uptegrove\, will be throwing out the first pitch and PGF will have a table set up with information and freebies. Don’t miss out on the action-packed experience. To make it EVEN BETTER\, anyone who gets a ticket through our website\, and any Veteran who stops by our table\, will be entered into a drawing to win free PGF merch!* \nVeterans: We are building a community of Veterans and what better way than to meet up at a baseball game? Come by our table so we can meet you. Don’t worry\, there’s no agenda. We just want to watch baseball together! \nNot a Veteran? We would still love to meet you and talk to you more about issues Veterans are facing. You can purchase your tickets here: fevo-enterprise.com/event/Projectgallantly. $3 of every ticket purchased from our link is donated toward the mission of PGF. Must be purchased by noon on 5/23. \nJust want to go to the game? That’s ok too! Your order through the link above helps support Veterans whether you come by and see us or not. \nWant to go ahead and purchase merch to be worn in support of PGF at the game? T-shirts\, hats\, and more are available on our website at: Merch – Project Gallantly Forward ** \n\n*Must be at follow-up event to win\, date TBD \n**Due to restrictions\, merch cannot be purchased at the game\, however\, it can be pre-purchased and picked up at the game or Soddy Daisy Speed Shop if you would like to forgo shipping cost.
URL:https://www.projectgallantlyforward.org/event/chattanooga-lookouts-military-appreciation-night/
LOCATION:AT&T Field – Lookouts\, 201 Power Alley\, Chattanooga\, TN\, 37402\, United States
ORGANIZER;CN="Project Gallantly Forward":MAILTO:christine@projectgallantlyforward.org
END:VEVENT
BEGIN:VEVENT
DTSTART;TZID=UTC:20240525T130000
DTEND;TZID=UTC:20240525T150000
DTSTAMP:20260423T165636
CREATED:20240522T043448Z
LAST-MODIFIED:20240522T044658Z
UID:405-1716642000-1716649200@www.projectgallantlyforward.org
SUMMARY:Veteran Memorial Fenceline Dedication
DESCRIPTION:In honor of Memorial Day\, we are dedicating our first re-built fence line in honor of our Veterans. Since Project Gallantly Forward is supported by the community we serve\, we want to use the space on each fence post to honor the veterans that are closest to your heart. In a joint effort with NNU Fabrication\, we will be offering custom shields “In Memory Of” or “In Honor Of” your Veteran. Shields are available for purchase until 5/1/2024 and will be placed on the fence posts at PGF by Memorial Day. \nWe invite you to join us for a dedication ceremony for the Memorial Fenceline which will occur 5/25 at 1p eastern. More information can be found at the Facebook event.
URL:https://www.projectgallantlyforward.org/event/veteran-memorial-fenceline-dedication/
LOCATION:Project Gallantly Forward\, 81 Potts Rd\, Graysville\, TN\, 37338\, United States
ORGANIZER;CN="Project Gallantly Forward":MAILTO:christine@projectgallantlyforward.org
END:VEVENT
BEGIN:VEVENT
DTSTART;TZID=UTC:20240525T100000
DTEND;TZID=UTC:20240525T120000
DTSTAMP:20260423T165636
CREATED:20240522T043226Z
LAST-MODIFIED:20240522T044808Z
UID:401-1716631200-1716638400@www.projectgallantlyforward.org
SUMMARY:Ally Appreciation Day
DESCRIPTION:Appreciation event for PGF Allies. By invitation only.
URL:https://www.projectgallantlyforward.org/event/ally-appreciation-day/
LOCATION:Project Gallantly Forward\, 81 Potts Rd\, Graysville\, TN\, 37338\, United States
ORGANIZER;CN="Project Gallantly Forward":MAILTO:christine@projectgallantlyforward.org
END:VEVENT
END:VCALENDAR