BEGIN:VCALENDAR
VERSION:2.0
PRODID:-//Project Gallantly Forward - ECPv6.15.20//NONSGML v1.0//EN
CALSCALE:GREGORIAN
METHOD:PUBLISH
X-WR-CALNAME:Project Gallantly Forward
X-ORIGINAL-URL:https://www.projectgallantlyforward.org
X-WR-CALDESC:Events for Project Gallantly Forward
REFRESH-INTERVAL;VALUE=DURATION:PT1H
X-Robots-Tag:noindex
X-PUBLISHED-TTL:PT1H
BEGIN:VTIMEZONE
TZID:America/New_York
BEGIN:DAYLIGHT
TZOFFSETFROM:-0500
TZOFFSETTO:-0400
TZNAME:EDT
DTSTART:20250309T070000
END:DAYLIGHT
BEGIN:STANDARD
TZOFFSETFROM:-0400
TZOFFSETTO:-0500
TZNAME:EST
DTSTART:20251102T060000
END:STANDARD
BEGIN:DAYLIGHT
TZOFFSETFROM:-0500
TZOFFSETTO:-0400
TZNAME:EDT
DTSTART:20260308T070000
END:DAYLIGHT
BEGIN:STANDARD
TZOFFSETFROM:-0400
TZOFFSETTO:-0500
TZNAME:EST
DTSTART:20261101T060000
END:STANDARD
BEGIN:DAYLIGHT
TZOFFSETFROM:-0500
TZOFFSETTO:-0400
TZNAME:EDT
DTSTART:20270314T070000
END:DAYLIGHT
BEGIN:STANDARD
TZOFFSETFROM:-0400
TZOFFSETTO:-0500
TZNAME:EST
DTSTART:20271107T060000
END:STANDARD
END:VTIMEZONE
BEGIN:VEVENT
DTSTART;TZID=America/New_York:20260307T130000
DTEND;TZID=America/New_York:20260307T170000
DTSTAMP:20260423T155634
CREATED:20260211T012737Z
LAST-MODIFIED:20260211T012737Z
UID:2019-1772888400-1772902800@www.projectgallantlyforward.org
SUMMARY:Chattanooga Villains' Beard Competition
DESCRIPTION:4 Year Event at White Duck Taco \nCome out and have a blast with us! The event is benefiting 2 great charities. Project Gallantly Forward\, and Forgotten Child Fund. We will have a Raffle and an Auction\, great food\, and great beards!\nBeard CompetitionRegistration starts @ 1pmCompetition starts @ 2pmCategories—• 0-4″ • 4-8″ • 8-12″• 12″ & Up• Freestyle & MustacheAlso\, A Monster Chug contest.\n\n\n\nThe event is sponsored byRandy Wilson PaintingWhite Duck TacoBearded DeathMonster EnergyOptimize USouthern Honda PowersportsRivco ConstructionScenic City CigarsDiscovery OutletLocke Sign Co.
URL:https://www.projectgallantlyforward.org/event/chattanooga-villains-beard-competition/
LOCATION:White Duck Taco\, 1519 McCallie Ave\, Chattanooga\, TN\, 37404\, United States
END:VEVENT
END:VCALENDAR