BEGIN:VCALENDAR
VERSION:2.0
PRODID:-//Project Gallantly Forward - ECPv6.15.20//NONSGML v1.0//EN
CALSCALE:GREGORIAN
METHOD:PUBLISH
X-ORIGINAL-URL:https://www.projectgallantlyforward.org
X-WR-CALDESC:Events for Project Gallantly Forward
REFRESH-INTERVAL;VALUE=DURATION:PT1H
X-Robots-Tag:noindex
X-PUBLISHED-TTL:PT1H
BEGIN:VTIMEZONE
TZID:America/New_York
BEGIN:DAYLIGHT
TZOFFSETFROM:-0500
TZOFFSETTO:-0400
TZNAME:EDT
DTSTART:20250309T070000
END:DAYLIGHT
BEGIN:STANDARD
TZOFFSETFROM:-0400
TZOFFSETTO:-0500
TZNAME:EST
DTSTART:20251102T060000
END:STANDARD
BEGIN:DAYLIGHT
TZOFFSETFROM:-0500
TZOFFSETTO:-0400
TZNAME:EDT
DTSTART:20260308T070000
END:DAYLIGHT
BEGIN:STANDARD
TZOFFSETFROM:-0400
TZOFFSETTO:-0500
TZNAME:EST
DTSTART:20261101T060000
END:STANDARD
BEGIN:DAYLIGHT
TZOFFSETFROM:-0500
TZOFFSETTO:-0400
TZNAME:EDT
DTSTART:20270314T070000
END:DAYLIGHT
BEGIN:STANDARD
TZOFFSETFROM:-0400
TZOFFSETTO:-0500
TZNAME:EST
DTSTART:20271107T060000
END:STANDARD
END:VTIMEZONE
BEGIN:VEVENT
DTSTART;TZID=America/New_York:20260220T000000
DTEND;TZID=America/New_York:20260221T235959
DTSTAMP:20260423T173330
CREATED:20260113T170705Z
LAST-MODIFIED:20260113T170705Z
UID:1975-1771545600-1771718399@www.projectgallantlyforward.org
SUMMARY:Disc Golf Tournament - Plastic Explosive Open II
DESCRIPTION:The Plastic Explosive Disc Golf Tourney is BACK ON at the retreat\, February 20-21st.\n\n\n\nIt’s a temp course on PGF property hosted by C4 Church and benefiting Advocates for Africa\, a Veteran-founded organization building schools in Africa and providing food to families.\n\n\nIt’s gonna be a great day! And cash dubs the day before too (separate tournament listing)!\n\n\n\nhttps://www.pdga.com/tour/event/97912\n\n\n\n Veterans – We want you to compete! Thanks to the generosity of DDJ Tools\, we have sponsorships for the first Veterans to register! Message us prior to registering for details.
URL:https://www.projectgallantlyforward.org/event/disc-golf-tournament-plastic-explosive-open-ii/
LOCATION:Project Gallantly Forward\, 81 Potts Rd\, Graysville\, TN\, 37338\, United States
END:VEVENT
END:VCALENDAR