BEGIN:VCALENDAR
VERSION:2.0
PRODID:-//Project Gallantly Forward - ECPv6.15.20//NONSGML v1.0//EN
CALSCALE:GREGORIAN
METHOD:PUBLISH
X-WR-CALNAME:Project Gallantly Forward
X-ORIGINAL-URL:https://www.projectgallantlyforward.org
X-WR-CALDESC:Events for Project Gallantly Forward
REFRESH-INTERVAL;VALUE=DURATION:PT1H
X-Robots-Tag:noindex
X-PUBLISHED-TTL:PT1H
BEGIN:VTIMEZONE
TZID:America/New_York
BEGIN:DAYLIGHT
TZOFFSETFROM:-0500
TZOFFSETTO:-0400
TZNAME:EDT
DTSTART:20250309T070000
END:DAYLIGHT
BEGIN:STANDARD
TZOFFSETFROM:-0400
TZOFFSETTO:-0500
TZNAME:EST
DTSTART:20251102T060000
END:STANDARD
BEGIN:DAYLIGHT
TZOFFSETFROM:-0500
TZOFFSETTO:-0400
TZNAME:EDT
DTSTART:20260308T070000
END:DAYLIGHT
BEGIN:STANDARD
TZOFFSETFROM:-0400
TZOFFSETTO:-0500
TZNAME:EST
DTSTART:20261101T060000
END:STANDARD
BEGIN:DAYLIGHT
TZOFFSETFROM:-0500
TZOFFSETTO:-0400
TZNAME:EDT
DTSTART:20270314T070000
END:DAYLIGHT
BEGIN:STANDARD
TZOFFSETFROM:-0400
TZOFFSETTO:-0500
TZNAME:EST
DTSTART:20271107T060000
END:STANDARD
END:VTIMEZONE
BEGIN:VEVENT
DTSTART;TZID=America/New_York:20260203T173000
DTEND;TZID=America/New_York:20260203T200000
DTSTAMP:20260423T173049
CREATED:20251217T020619Z
LAST-MODIFIED:20251223T024333Z
UID:1954-1770139800-1770148800@www.projectgallantlyforward.org
SUMMARY:GRIT Training
DESCRIPTION:Register at https://www.projectgallantlyforward.org/grit/ \nAny Job. \nAny Rank. \nAny Branch. \nWe are all now grunts in the same trench. The new trench of finding who we are outside of the military. It is a completely different world than the military and can leave the most adept soldier scrambling for a foothold even years later. When the identity of who we are as soldiers is gone\, developing resiliency and GRIT are critical for moving forward. \nG.R.I.T. training is co-facilitated by: \n\nCindi Sanden\, Certified Resiliency Trainer and Executive Director of Keep Soddy Daisy Beautiful\nDr. Mark Miller\, Psychologist\, US Army Veteran and PGF Board Member\n\nTraining focuses on: \n\nBuilding Resilience: Learn techniques to enhance your emotional and mental resilience.\nCommunity Support: Engage with other Veterans in a supportive and understanding environment.\nPractical Tools: Gain practical tools and strategies to manage stress and improve overall well-being.\n\n\nWhen? Tuesday\, February 3\, 2026 from 5:30p to 8p eastern \nCost? Free of charge\, but registration required \nWhere? Project Gallantly Forward Office at 9632 Dayton Pike #102 Soddy Daisy\, TN 37379 \nLight snacks and beverages will be provided.
URL:https://www.projectgallantlyforward.org/event/grit-training/
LOCATION:PGF Office – Soddy Daisy\, 9632 Dayton Pike #102\, Soddy Daisy\, Tennessee\, 37338\, United States
ORGANIZER;CN="Project Gallantly Forward":MAILTO:christine@projectgallantlyforward.org
END:VEVENT
END:VCALENDAR