BEGIN:VCALENDAR
VERSION:2.0
PRODID:-//Project Gallantly Forward - ECPv6.15.20//NONSGML v1.0//EN
CALSCALE:GREGORIAN
METHOD:PUBLISH
X-WR-CALNAME:Project Gallantly Forward
X-ORIGINAL-URL:https://www.projectgallantlyforward.org
X-WR-CALDESC:Events for Project Gallantly Forward
REFRESH-INTERVAL;VALUE=DURATION:PT1H
X-Robots-Tag:noindex
X-PUBLISHED-TTL:PT1H
BEGIN:VTIMEZONE
TZID:America/New_York
BEGIN:DAYLIGHT
TZOFFSETFROM:-0500
TZOFFSETTO:-0400
TZNAME:EDT
DTSTART:20240310T070000
END:DAYLIGHT
BEGIN:STANDARD
TZOFFSETFROM:-0400
TZOFFSETTO:-0500
TZNAME:EST
DTSTART:20241103T060000
END:STANDARD
BEGIN:DAYLIGHT
TZOFFSETFROM:-0500
TZOFFSETTO:-0400
TZNAME:EDT
DTSTART:20250309T070000
END:DAYLIGHT
BEGIN:STANDARD
TZOFFSETFROM:-0400
TZOFFSETTO:-0500
TZNAME:EST
DTSTART:20251102T060000
END:STANDARD
BEGIN:DAYLIGHT
TZOFFSETFROM:-0500
TZOFFSETTO:-0400
TZNAME:EDT
DTSTART:20260308T070000
END:DAYLIGHT
BEGIN:STANDARD
TZOFFSETFROM:-0400
TZOFFSETTO:-0500
TZNAME:EST
DTSTART:20261101T060000
END:STANDARD
END:VTIMEZONE
BEGIN:VEVENT
DTSTART;TZID=America/New_York:20251101T040000
DTEND;TZID=America/New_York:20251101T190000
DTSTAMP:20260423T222219
CREATED:20250225T024928Z
LAST-MODIFIED:20250418T155428Z
UID:1180-1761969600-1762023600@www.projectgallantlyforward.org
SUMMARY:Fishing with a Veteran Tournament
DESCRIPTION:Details and registration can be found at www.fishingwithaveteran.org \nVeterans fish for free! \n\n\nJoin us for a memorable day of camaraderie and competition at the Fishing with a Veteran Tournament hosted by Project Gallantly Forward (PGF). At this event\, fishermen are paired with Veterans to see which team can bring in the biggest catch. \nProject Gallantly Forward (PGF) offers R&R at a retreat in rural Tennessee to Veterans with their families who are located nationwide\, as well as opportunities for local Veterans to connect. Participation in programs is free of charge. Through these programs\, PGF provides time and space for veterans to begin healing while in the company of other veterans who are on the same path. Data shows time in nature\, to be healing for those struggling with PTSD. PGF is thrilled to host this tournament and provide Veterans the opportunity to connect with fishing professionals and other Veterans while enjoying the natural beauty of Chickamauga Lake. \n\n\n\n“Last year I was in a dark space in life and I reached out to Lucas Lewis the founder of PGF and he invited me out to a work day with other vets. That day was pretty special. Working with other vets was calming and just a great experience to be back with military family. I found a purpose in life again. Fishing has always brought calmness to me…Getting out on the water and nature is a natural calming. I spoke to Lucas Lewis\, Founder and President of PGF\, about having a fishing tournament for Veterans as an added program to PGF and he gave his blessings and Fishing with a Veteran Tournament was born.” – Gary\, Tournament Organizer \n\n\n\n\nRegister Now\n\nWhen: November 1\, 2025 \nLaunch: First safe light \nWeigh-In: 1530 \nLocation: Chester Frost Park Boat Ramp \nDetails: \n\nEach Veteran and boater team will have a 5 fish limit.\n\nBoater registration fee is $100.\nVeteran fishes for FREE!\nIf the boater is a Veteran\, the boater is still responsible for the registration fee.\n\n\nPrizes will be awarded for 1st\, 2nd and 3rd Place at weigh-in. Prize will also be awarded for biggest fish.\n\nFor the winning team\, boaters will receive monetary prizes and Veteran will receive prizes donated by sponsors.\n$80 of each registration fee will be split between 1st\, 2nd and 3rd place boater\n$20 of each registration fee goes toward the big fish winner.\n\n\nTWRA Rules apply – all fisherman must have a valid fishing license.\nMust Register in Advance\nRegistration closes October 25\, 2025 – one week prior to the event\nPre-check in will be available at the Project Gallantly Forward Office in Soddy Daisy from 4p-7p on the evening before: Friday October 31\, 2025.
URL:https://www.projectgallantlyforward.org/event/fishing-with-a-veteran-tournament/
LOCATION:Chesterfrost Park\, 2277 Gold Point Cir N\, Hixson\, TN\, 37343\, United States
ORGANIZER;CN="Project Gallantly Forward":MAILTO:christine@projectgallantlyforward.org
END:VEVENT
END:VCALENDAR