BEGIN:VCALENDAR
VERSION:2.0
PRODID:-//Project Gallantly Forward - ECPv6.15.20//NONSGML v1.0//EN
CALSCALE:GREGORIAN
METHOD:PUBLISH
X-WR-CALNAME:Project Gallantly Forward
X-ORIGINAL-URL:https://www.projectgallantlyforward.org
X-WR-CALDESC:Events for Project Gallantly Forward
REFRESH-INTERVAL;VALUE=DURATION:PT1H
X-Robots-Tag:noindex
X-PUBLISHED-TTL:PT1H
BEGIN:VTIMEZONE
TZID:America/New_York
BEGIN:DAYLIGHT
TZOFFSETFROM:-0500
TZOFFSETTO:-0400
TZNAME:EDT
DTSTART:20240310T070000
END:DAYLIGHT
BEGIN:STANDARD
TZOFFSETFROM:-0400
TZOFFSETTO:-0500
TZNAME:EST
DTSTART:20241103T060000
END:STANDARD
BEGIN:DAYLIGHT
TZOFFSETFROM:-0500
TZOFFSETTO:-0400
TZNAME:EDT
DTSTART:20250309T070000
END:DAYLIGHT
BEGIN:STANDARD
TZOFFSETFROM:-0400
TZOFFSETTO:-0500
TZNAME:EST
DTSTART:20251102T060000
END:STANDARD
BEGIN:DAYLIGHT
TZOFFSETFROM:-0500
TZOFFSETTO:-0400
TZNAME:EDT
DTSTART:20260308T070000
END:DAYLIGHT
BEGIN:STANDARD
TZOFFSETFROM:-0400
TZOFFSETTO:-0500
TZNAME:EST
DTSTART:20261101T060000
END:STANDARD
END:VTIMEZONE
BEGIN:VEVENT
DTSTART;TZID=America/New_York:20250721T180000
DTEND;TZID=America/New_York:20250721T200000
DTSTAMP:20260424T051845
CREATED:20250615T143844Z
LAST-MODIFIED:20250615T144209Z
UID:1392-1753120800-1753128000@www.projectgallantlyforward.org
SUMMARY:Fishing Nights at PGF
DESCRIPTION:We welcome Veterans with their families to come to the retreat on Monday evenings from 6-8p eastern time for catch-and-release fishing. Pond is stocked primarily with bass\, crappie and catfish. \n\nREQUIRED: email Christine@projectgallantlyforward.org and let us know if you will be coming so we can expect you!\nBring your own poles and gear.\nPond is located at 818 Suzanne Rd Graysville\, TN 37338\, nearby the cabins.
URL:https://www.projectgallantlyforward.org/event/fishing-nights-at-pgf-6/
LOCATION:Project Gallantly Forward\, 81 Potts Rd\, Graysville\, TN\, 37338\, United States
ATTACH;FMTTYPE=image/jpeg:https://www.projectgallantlyforward.org/wp-content/uploads/2024/08/456961637_498435543123823_7832228853764085857_n.jpg
ORGANIZER;CN="Project Gallantly Forward":MAILTO:christine@projectgallantlyforward.org
END:VEVENT
END:VCALENDAR