BEGIN:VCALENDAR
VERSION:2.0
PRODID:-//Project Gallantly Forward - ECPv6.15.20//NONSGML v1.0//EN
CALSCALE:GREGORIAN
METHOD:PUBLISH
X-ORIGINAL-URL:https://www.projectgallantlyforward.org
X-WR-CALDESC:Events for Project Gallantly Forward
REFRESH-INTERVAL;VALUE=DURATION:PT1H
X-Robots-Tag:noindex
X-PUBLISHED-TTL:PT1H
BEGIN:VTIMEZONE
TZID:America/New_York
BEGIN:DAYLIGHT
TZOFFSETFROM:-0500
TZOFFSETTO:-0400
TZNAME:EDT
DTSTART:20230312T070000
END:DAYLIGHT
BEGIN:STANDARD
TZOFFSETFROM:-0400
TZOFFSETTO:-0500
TZNAME:EST
DTSTART:20231105T060000
END:STANDARD
BEGIN:DAYLIGHT
TZOFFSETFROM:-0500
TZOFFSETTO:-0400
TZNAME:EDT
DTSTART:20240310T070000
END:DAYLIGHT
BEGIN:STANDARD
TZOFFSETFROM:-0400
TZOFFSETTO:-0500
TZNAME:EST
DTSTART:20241103T060000
END:STANDARD
BEGIN:DAYLIGHT
TZOFFSETFROM:-0500
TZOFFSETTO:-0400
TZNAME:EDT
DTSTART:20250309T070000
END:DAYLIGHT
BEGIN:STANDARD
TZOFFSETFROM:-0400
TZOFFSETTO:-0500
TZNAME:EST
DTSTART:20251102T060000
END:STANDARD
END:VTIMEZONE
BEGIN:VEVENT
DTSTART;TZID=America/New_York:20241101T080000
DTEND;TZID=America/New_York:20241214T200000
DTSTAMP:20260424T175924
CREATED:20241107T183938Z
LAST-MODIFIED:20241107T183938Z
UID:1085-1730448000-1734206400@www.projectgallantlyforward.org
SUMMARY:Charity Beard Competition
DESCRIPTION:The PGF Beard contest pits one beard against another. Vote by donating to the beard you like best. $1=1 vote. \n\nVote for a Beard\n\nMeet the contestants: \n\nClick on their individual fundraising pages in the leaderboard below to find out more about each contestant and why helping Veterans is important to them. \nWhoever raises the most for PGF will win a gift basket of beard-tastic items. All money donated goes toward our mission to build a retreat where Veterans can move forward together. \nBUT\, we’re sweeting the deal. If over $10\,000 is raised overall\, Lucas Lewis (founder and president of PGF)\, Seth Kizer (PGF board member)\, and Gary Phillips (PGF Volunteer) will SHAVE their beards! \nStart Date: Monday Nov 1\, 2024. Contestants will have all of No-Shave November to bask in the glory of their beard and raise funds. \nEnd Date: Saturday\, December 14 during the Ugly Sweater Party (www.projectgallantlyforward.org/ugly-sweater)
URL:https://www.projectgallantlyforward.org/event/charity-beard-competition/
LOCATION:Online
ORGANIZER;CN="Project Gallantly Forward":MAILTO:christine@projectgallantlyforward.org
END:VEVENT
END:VCALENDAR